BEGIN:VCALENDAR
VERSION:2.0
PRODID:-//eventcosplaypekanbaru - ECPv6.15.18//NONSGML v1.0//EN
CALSCALE:GREGORIAN
METHOD:PUBLISH
X-ORIGINAL-URL:https://eventcosplaypekanbaru.site
X-WR-CALDESC:Events for eventcosplaypekanbaru
REFRESH-INTERVAL;VALUE=DURATION:PT1H
X-Robots-Tag:noindex
X-PUBLISHED-TTL:PT1H
BEGIN:VTIMEZONE
TZID:Asia/Jakarta
BEGIN:STANDARD
TZOFFSETFROM:+0700
TZOFFSETTO:+0700
TZNAME:WIB
DTSTART:20250101T000000
END:STANDARD
END:VTIMEZONE
BEGIN:VEVENT
DTSTART;TZID=Asia/Jakarta:20260401T150000
DTEND;TZID=Asia/Jakarta:20260501T170000
DTSTAMP:20260423T160159
CREATED:20260302T025329Z
LAST-MODIFIED:20260302T025329Z
UID:170-1775055600-1777654800@eventcosplaypekanbaru.site
SUMMARY:BUNKASAI COSWALK COMPETITION
DESCRIPTION:🎌✨ BUNKASAI 永道 – COSWALK COMPETITION ✨🎌 \nSaatnya tampil totalitas dan tunjukkan karakter terbaikmu di panggung Bunkasai! 🔥\nIkuti COSWALK Competition dan jadilah bintang selanjutnya bersama Judges \n🌟 ChuChu @real.x.chuchu\n🌟 Ayra @ayrarze\n🌟 Meihui @meihui_19 \n💰 BIAYA PENDAFTARAN (Umum):\n• GEL 1: Rp 20.000 (19 Januari – 07 Februari)\n• GEL 2: Rp 25.000 (08 Februari – 22 Maret) \n🏆 HADIAH PEMENANG:\n1. Uang Tunai\n2. Sertifikat\n3. Piala \n📌 PENDAFTARAN:\nlinktr.ee/BUNKASAIUNRIXIX_ \nLomba tanggal 1 April 2026 \n📞 Contact Person:\n082268953729 (Wan Azlan)\n083152000421 (M. Chairil) \nYuk jadi bagian dari kemeriahan budaya dan tunjukkan pesonamu di panggung Bunkasai! 🎭🔥\nJangan sampai kelewatan\, daftar sekarang sebelum slot penuh! \n#Bunkasai #Coswalk #EventCosplay #KompetisiCosplay #Bunkasai2026
URL:https://eventcosplaypekanbaru.site/event/bunkasai-coswalk-competition/
LOCATION:Universitas Riau
ATTACH;FMTTYPE=image/jpeg:https://eventcosplaypekanbaru.site/wp-content/uploads/2026/03/639876788_18071269361635838_8279816358546571532_n.jpg
END:VEVENT
BEGIN:VEVENT
DTSTART;TZID=Asia/Jakarta:20260428T150000
DTEND;TZID=Asia/Jakarta:20260428T170000
DTSTAMP:20260423T160159
CREATED:20260420T100358Z
LAST-MODIFIED:20260420T100358Z
UID:177-1777388400-1777395600@eventcosplaypekanbaru.site
SUMMARY:WESTERN COSPLAY
DESCRIPTION:♟️✨ WESTERN COSPLAY OPEN REGISTRATION 2026 ✨♟️\n“Bring The Best and Go Beyond!” \nSaatnya tunjukkan karakter terbaikmu di panggung Western Cosplay 2026! Dengan tema Good and Evil\, kamu bebas mengekspresikan karakter favoritmu dalam konsep pahlawan maupun villain paling ikonik! 🔥 \n📌 Kategori Peserta:\n• Kindergarten\n• Elementary School\n• Junior High School – Senior High School — General\n(⚠️ Slot terbatas hanya 40 peserta!) \n💰 HTM:\n• TK: IDR 70.000/orang\n• SD: IDR 80.000/orang\n• SMP–SMA—UMUM: IDR 90.000/orang \n🗓️ Timeline:\n• Registration: 1 Jan – 17 Apr 2026 (Online)\n• Registration Offline: 9 Feb – 12 Apr 2026\n• Re-registration: 21–22 Apr 2026\n• Technical Meeting: 22 Apr 2026\n• Competition Day: 28 Apr 2026\n• Winner Announcement: 1 May 2026 \n📍 Pendaftaran Offline:\nKampus Bina Widya KM 12\,5 Simpang Baru\,\nKec. Tampan\, Kota Pekanbaru\, Riau\nUniversitas Riau (UNRI) \n📞 Contact Person:\nAurelia Danisha Arisandy (0878-4122-6359)\nOnline Registration: Melda Hayati (0821-7432-8132) \n👑 Akan dinilai langsung oleh judges keren:\nSadam Sameer @sadam_sameeer \, ChuChu @real.x.chuchu \, dan Nicky Lee @nickylee.cos ! \nYuk jadi bagian dari keseruan Western Cosplay 2026 dan tunjukkan versi terbaikmu di atas panggung! ✨🔥\nSlot terbatas\, jangan sampai ketinggalan!
URL:https://eventcosplaypekanbaru.site/event/western-cosplay/
LOCATION:Universitas Riau
ATTACH;FMTTYPE=image/jpeg:https://eventcosplaypekanbaru.site/wp-content/uploads/2026/04/642388976_18448349257111719_7111811614731867538_n.jpg
END:VEVENT
END:VCALENDAR